BEGIN:VCALENDAR
VERSION:2.0
BEGIN:VEVENT
URL:https://airwaves.oztix.com.au/outlet/event/0458ed5a-9ff6-46ec-990f-4da3b393e8f7
DTSTART:20210327T040000Z
DTEND:20210327T040000Z
SUMMARY:Airwaves - Saturday 27 March
DESCRIPTION:Event details: https://airwaves.oztix.com.au/outlet/event/0458ed5a-9ff6-46ec-990f-4da3b393e8f7
LOCATION:NightQuarter - Sunshine Coast (Birtinya, QLD)
END:VEVENT
END:VCALENDAR